BEGIN:VCALENDAR
VERSION:2.0
PRODID:-//WSU IEEE - ECPv5.2.1//NONSGML v1.0//EN
CALSCALE:GREGORIAN
METHOD:PUBLISH
X-WR-CALNAME:WSU IEEE
X-ORIGINAL-URL:https://ieee.wsu.edu
X-WR-CALDESC:Events for WSU IEEE
BEGIN:VTIMEZONE
TZID:America/Los_Angeles
BEGIN:DAYLIGHT
TZOFFSETFROM:-0800
TZOFFSETTO:-0700
TZNAME:PDT
DTSTART:20180311T100000
END:DAYLIGHT
BEGIN:STANDARD
TZOFFSETFROM:-0700
TZOFFSETTO:-0800
TZNAME:PST
DTSTART:20181104T090000
END:STANDARD
END:VTIMEZONE
BEGIN:VEVENT
DTSTART;TZID=America/Los_Angeles:20180419T180000
DTEND;TZID=America/Los_Angeles:20180419T200000
DTSTAMP:20260424T011234
CREATED:20190914T055414Z
LAST-MODIFIED:20190914T055414Z
UID:184-1524160800-1524168000@ieee.wsu.edu
SUMMARY:Bowling Night
DESCRIPTION:Registration required at http://ieee.wsu.edu/bowlingReg
URL:https://ieee.wsu.edu/event/bowling-night/
CATEGORIES:events
END:VEVENT
END:VCALENDAR