BEGIN:VCALENDAR
VERSION:2.0
PRODID:-//WSU IEEE - ECPv5.2.1//NONSGML v1.0//EN
CALSCALE:GREGORIAN
METHOD:PUBLISH
X-WR-CALNAME:WSU IEEE
X-ORIGINAL-URL:https://ieee.wsu.edu
X-WR-CALDESC:Events for WSU IEEE
BEGIN:VTIMEZONE
TZID:America/Los_Angeles
BEGIN:DAYLIGHT
TZOFFSETFROM:-0800
TZOFFSETTO:-0700
TZNAME:PDT
DTSTART:20180311T100000
END:DAYLIGHT
BEGIN:STANDARD
TZOFFSETFROM:-0700
TZOFFSETTO:-0800
TZNAME:PST
DTSTART:20181104T090000
END:STANDARD
END:VTIMEZONE
BEGIN:VEVENT
DTSTART;TZID=America/Los_Angeles:20180324T100000
DTEND;TZID=America/Los_Angeles:20180324T140000
DTSTAMP:20260424T022243
CREATED:20190914T055419Z
LAST-MODIFIED:20190914T055419Z
UID:186-1521885600-1521900000@ieee.wsu.edu
SUMMARY:Kids Day
DESCRIPTION:
URL:https://ieee.wsu.edu/event/kids-day/
CATEGORIES:events
END:VEVENT
END:VCALENDAR