BEGIN:VCALENDAR
VERSION:2.0
PRODID:-//WSU IEEE - ECPv5.2.1//NONSGML v1.0//EN
CALSCALE:GREGORIAN
METHOD:PUBLISH
X-WR-CALNAME:WSU IEEE
X-ORIGINAL-URL:https://ieee.wsu.edu
X-WR-CALDESC:Events for WSU IEEE
BEGIN:VTIMEZONE
TZID:America/Los_Angeles
BEGIN:DAYLIGHT
TZOFFSETFROM:-0800
TZOFFSETTO:-0700
TZNAME:PDT
DTSTART:20180311T100000
END:DAYLIGHT
BEGIN:STANDARD
TZOFFSETFROM:-0700
TZOFFSETTO:-0800
TZNAME:PST
DTSTART:20181104T090000
END:STANDARD
END:VTIMEZONE
BEGIN:VEVENT
DTSTART;TZID=America/Los_Angeles:20180220T190000
DTEND;TZID=America/Los_Angeles:20180220T210000
DTSTAMP:20260424T034344
CREATED:20190914T055425Z
LAST-MODIFIED:20190914T055425Z
UID:188-1519153200-1519160400@ieee.wsu.edu
SUMMARY:Soldering Session
DESCRIPTION:Signups required. Go to ieee.wsu.edu/solderingSession to reserve a spot.
URL:https://ieee.wsu.edu/event/soldering-session/
CATEGORIES:events
END:VEVENT
END:VCALENDAR