BEGIN:VCALENDAR
VERSION:2.0
PRODID:-//WSU IEEE - ECPv5.2.1//NONSGML v1.0//EN
CALSCALE:GREGORIAN
METHOD:PUBLISH
X-WR-CALNAME:WSU IEEE
X-ORIGINAL-URL:https://ieee.wsu.edu
X-WR-CALDESC:Events for WSU IEEE
BEGIN:VTIMEZONE
TZID:America/Los_Angeles
BEGIN:DAYLIGHT
TZOFFSETFROM:-0800
TZOFFSETTO:-0700
TZNAME:PDT
DTSTART:20180311T100000
END:DAYLIGHT
BEGIN:STANDARD
TZOFFSETFROM:-0700
TZOFFSETTO:-0800
TZNAME:PST
DTSTART:20181104T090000
END:STANDARD
END:VTIMEZONE
BEGIN:VEVENT
DTSTART;TZID=America/Los_Angeles:20181029T183000
DTEND;TZID=America/Los_Angeles:20181029T193000
DTSTAMP:20260423T144022
CREATED:20190914T055409Z
LAST-MODIFIED:20190914T055409Z
UID:182-1540837800-1540841400@ieee.wsu.edu
SUMMARY:Pumpkin Carving Meeting
DESCRIPTION:
URL:https://ieee.wsu.edu/event/pumpkin-carving-meeting/
CATEGORIES:events
END:VEVENT
END:VCALENDAR